BEGIN:VCALENDAR
VERSION:2.0
PRODID:-//WS Genesis Marketing (JM0908423-T) - ECPv6.0.1.1//NONSGML v1.0//EN
CALSCALE:GREGORIAN
METHOD:PUBLISH
X-WR-CALNAME:WS Genesis Marketing (JM0908423-T)
X-ORIGINAL-URL:https://www.wsgenesismarketing.com
X-WR-CALDESC:Events for WS Genesis Marketing (JM0908423-T)
REFRESH-INTERVAL;VALUE=DURATION:PT1H
X-Robots-Tag:noindex
X-PUBLISHED-TTL:PT1H
BEGIN:VTIMEZONE
TZID:UTC
BEGIN:STANDARD
TZOFFSETFROM:+0000
TZOFFSETTO:+0000
TZNAME:UTC
DTSTART:20170101T000000
END:STANDARD
END:VTIMEZONE
BEGIN:VEVENT
DTSTART;TZID=UTC:20180602T080000
DTEND;TZID=UTC:20230604T170000
DTSTAMP:20260425T063000
CREATED:20170825T145526Z
LAST-MODIFIED:20170825T145526Z
UID:13769-1527926400-1685898000@www.wsgenesismarketing.com
SUMMARY:Corporate Cash Flow
DESCRIPTION:Description\n	\n	This three-day course focuses on the importance of cash flow analysis in the credit assessment process. \nFuture cash flows pay interest and principal\, not historic accrual profits.\nThis course focuses on the importance of cash flow analysis in the credit assessment process. The course also deals with the credit risks of companies with international activities\, and the difficulties involved when dealing with off-balance sheet and contingent liabilities.\nThis course is part of Moody’s Analytics corporate credit analysis program and builds on the concepts explored in Moody’s Analytics Fundamentals of Corporate Credit Analysis course.\n	\nUnderstand cash flow and its role in the credit risk assessment process\nInterpret the impact of primary cash drivers\nPrepare projections to assess future cash flow quality\n\n	\nProject future cash flow\, debt service cover\, and credit needs\nIdentify potential liquidity problems before they become a threat\nAssess cash flow issues specific to international companies
URL:https://www.wsgenesismarketing.com/classes/corporate-cash-flow/
LOCATION:New York Ardesia Bar\, Lexington Avenue\, New York\, NY\, 10022\, United States
CATEGORIES:Aerobics,Danceing
ATTACH;FMTTYPE=image/jpeg:https://www.wsgenesismarketing.com/wp-content/uploads/2013/04/large.jpg
ORGANIZER;CN="Eddie%20Adkins":MAILTO:junk@vamtam.com
END:VEVENT
BEGIN:VEVENT
DTSTART;VALUE=DATE:20180412
DTEND;VALUE=DATE:20230415
DTSTAMP:20260425T063000
CREATED:20170825T145039Z
LAST-MODIFIED:20170825T145039Z
UID:13764-1523491200-1681516799@www.wsgenesismarketing.com
SUMMARY:Financial Statement Analysis
DESCRIPTION:Description\n	\n	This three-day course gives participants a detailed understanding of financial statements\, in the context of rapidly changing standards\, for assessing financial risk. \nHaving a detailed understanding of financial statements is critical to assessing financial risk\, and the rapid change in financial statement standards makes this a continuing challenge.\nThis course brings together the key elements of financial statement analysis. We help participants develop their skills\, enabling them to ask the right questions and see the real risks facing businesses and investors. The course uses the IFRS reference reporting framework.\nGain advanced skills in financial statement analysis so you can:\n	\nUnderstand cash flow and its role in the credit risk assessment process\nInterpret the impact of primary cash drivers\nPrepare projections to assess future cash flow quality\n\n	\nProject future cash flow\, debt service cover\, and credit needs\nIdentify potential liquidity problems before they become a threat\nAssess cash flow issues specific to international companies
URL:https://www.wsgenesismarketing.com/classes/financial-statement-analysis/
LOCATION:New York Ardesia Bar\, Lexington Avenue\, New York\, NY\, 10022\, United States
ATTACH;FMTTYPE=image/jpeg:https://www.wsgenesismarketing.com/wp-content/uploads/2013/04/large.jpg
END:VEVENT
BEGIN:VEVENT
DTSTART;TZID=UTC:20180208T080000
DTEND;TZID=UTC:20230208T080000
DTSTAMP:20260425T063000
CREATED:20170825T023749Z
LAST-MODIFIED:20170825T023749Z
UID:13731-1518076800-1675843200@www.wsgenesismarketing.com
SUMMARY:Washington Career Fair
DESCRIPTION:Description\n	\n	Meet face to face with top employers hiring for Sales\, Customer Service\, Retail\, Financial Services\, Management\, I.T. and Government positions. \nIf you have been looking for a new career or just ready to start a new job you don’t want to miss this exciting hiring event. Professional Dress is required and please bring additional copies of your resume.\nWhat to expect at a Nationwide Career Fair? \n	\nUnderstand cash flow and its role in the credit risk assessment process\nInterpret the impact of primary cash drivers\nPrepare projections to assess future cash flow quality\n\n	\nProject future cash flow\, debt service cover\, and credit needs\nIdentify potential liquidity problems before they become a threat\nAssess cash flow issues specific to international companies
URL:https://www.wsgenesismarketing.com/classes/washington-career-fair/
LOCATION:New York Ardesia Bar\, Lexington Avenue\, New York\, NY\, 10022\, United States
ATTACH;FMTTYPE=image/jpeg:https://www.wsgenesismarketing.com/wp-content/uploads/2013/04/large.jpg
ORGANIZER;CN="Eddie%20Adkins":MAILTO:junk@vamtam.com
END:VEVENT
BEGIN:VEVENT
DTSTART;TZID=UTC:20170901T080000
DTEND;TZID=UTC:20221002T170000
DTSTAMP:20260425T063000
CREATED:20170825T151901Z
LAST-MODIFIED:20170825T151901Z
UID:13787-1504252800-1664730000@www.wsgenesismarketing.com
SUMMARY:Structure Risk Learning Solution
DESCRIPTION:Description\n	\n	This two-day course teaches a structured approach to mitigating and protecting banks against business\, financial\, and structure risks. \nThis course builds on the risk analysis learned in Fundamentals of Corporate Credit. It teaches a structured approach to mitigating and protecting banks against those risks. The course focuses on loss given default (LGD) as part of the risk equation. It demonstrates how poor understanding of the different types of structure risk can increase LGD. \nGain insights into structure risk so you can: \n\nStructure complex deals\, taking a practical approach to protect against business\, financial\, and structure risk.\nAssess the impact and effectiveness of financial and non-financial covenants on a bank’s position.\nAssess the value of collateral and the reality of executing that collateral in a stress scenario.\nInstruct lawyers more effectively regarding the wording of loan documentation.\n\n\nWho Attends? \n	\nUnderstand cash flow and its role in the credit risk assessment process\nInterpret the impact of primary cash drivers\nPrepare projections to assess future cash flow quality\n\n	\nProject future cash flow\, debt service cover\, and credit needs\nIdentify potential liquidity problems before they become a threat\nAssess cash flow issues specific to international companies
URL:https://www.wsgenesismarketing.com/classes/structure-risk-learning-solution/
LOCATION:New York Ardesia Bar\, Lexington Avenue\, New York\, NY\, 10022\, United States
ATTACH;FMTTYPE=image/jpeg:https://www.wsgenesismarketing.com/wp-content/uploads/2013/04/large.jpg
ORGANIZER;CN="Karla%20Avala":MAILTO:junk@vamtam.com
END:VEVENT
BEGIN:VEVENT
DTSTART;TZID=UTC:20170829T080000
DTEND;TZID=UTC:20230829T170000
DTSTAMP:20260425T063000
CREATED:20170825T143338Z
LAST-MODIFIED:20170825T143338Z
UID:13757-1503993600-1693328400@www.wsgenesismarketing.com
SUMMARY:Credit Analysis
DESCRIPTION:Description\n	\n	This three-day course builds on Moody’s Analytics “Fundamentals” and intermediate-level corporate credit courses to take credit professionals’ analysis skills to an advanced level. \nThis three-day program is designed to lift credit professionals’ analysis skills to an advanced level. It includes peer group analysis\, market-based credit models\, complex capital structures\, event risk\, and early warning signs.\nEach credit issue will be analyzed from theoretical and practical perspectives\, using recent market examples for learners to assess cash flow and credit implications.\nThe course concludes with a comprehensive case study designed to bring all the topics together in a real-world example.\nGain advanced skills in corporate credit analysis so you can: \n	\nUnderstand cash flow and its role in the credit risk assessment process\nInterpret the impact of primary cash drivers\nPrepare projections to assess future cash flow quality\n\n	\nProject future cash flow\, debt service cover\, and credit needs\nIdentify potential liquidity problems before they become a threat\nAssess cash flow issues specific to international companies
URL:https://www.wsgenesismarketing.com/classes/credit-analysis/
LOCATION:New York Ardesia Bar\, Lexington Avenue\, New York\, NY\, 10022\, United States
CATEGORIES:Tires,Аccessories
ATTACH;FMTTYPE=image/jpeg:https://www.wsgenesismarketing.com/wp-content/uploads/2013/04/large.jpg
ORGANIZER;CN="Karla%20Avala":MAILTO:junk@vamtam.com
END:VEVENT
BEGIN:VEVENT
DTSTART;VALUE=DATE:20170828
DTEND;VALUE=DATE:20220831
DTSTAMP:20260425T063000
CREATED:20170825T151213Z
LAST-MODIFIED:20170825T151213Z
UID:13779-1503878400-1661903999@www.wsgenesismarketing.com
SUMMARY:Credit Risk
DESCRIPTION:Description\n	\n	This two-day course provides a review of the critical issues surrounding counterparty credit risk and other risks associated with over-the-counter (OTC) derivative contracts. \nGain insights into counterparty credit risk so you can: \n\nUnderstand modeling and estimation of counterparty credit exposures.\nIdentify issues in collateral usage and risks.\nUnderstand the rationale and concerns over bilateral credit value adjustments.\n\nWho Attends? \n	\nUnderstand cash flow and its role in the credit risk assessment process\nInterpret the impact of primary cash drivers\nPrepare projections to assess future cash flow quality\n\n	\nProject future cash flow\, debt service cover\, and credit needs\nIdentify potential liquidity problems before they become a threat\nAssess cash flow issues specific to international companies
URL:https://www.wsgenesismarketing.com/classes/credit-risk/
LOCATION:New York Ardesia Bar\, Lexington Avenue\, New York\, NY\, 10022\, United States
CATEGORIES:Aerobics,Danceing,Tires
ATTACH;FMTTYPE=image/jpeg:https://www.wsgenesismarketing.com/wp-content/uploads/2013/04/large.jpg
END:VEVENT
END:VCALENDAR